BEGIN:VCALENDAR
VERSION:2.0
PRODID:-//Eventin//Event Calendar//EN
CALSCALE:GREGORIAN
METHOD:PUBLISH
BEGIN:VEVENT
UID:869ee2f87d17b61eb02d70ca81caac4c@parvatifreaks.in
SUMMARY:Jungle Spirit |10 Years Aniversary - Summer Edition
DESCRIPTION:🌿🔥 **JUNGLE SPIRIT FESTIVAL – SUMMER EDITION | 10 YEARS
  ANNIVERSARY** 🔥🌿\nCelebrating a decade of music\, movement\, and mag
 ical jungle moments — Jungle Spirit Festival returns for its most powerfu
 l edition yet.\nFor 10 years\, this gathering has united free spirits\, art
 ists\, and psy-lovers from around the world in a celebration of sound and n
 ature. This Summer Edition marks a milestone — bigger stages\, deeper fre
 quencies\, immersive décor\, visual journeys\, healing spaces\, art instal
 lations\, and a tribe that keeps growing stronger every year.\nThis is more
  than a festival — it’s a ritual of connection\, a celebration of freed
 om\, and a decade of unforgettable memories.\nJoin the tribe\nCelebrate 10 
 years of Jungle Spirit.Let the summer blast begin. 🌴🚀\n \nHeadliners
  announced\n \nGOASIA🇷🇸 LIVE 💥🚀 First Time in Parvati Valley 
 \nHENTAI CAMERAMAN🇯🇵 LIVE 🔪🚀🔥\nOPSY.LIVE🇭🇷💥. First 
 Time in India\nAKIRA ARASAWA 🇯🇵 first time in Parvati\nTIVRA live 
 🇺🇸🇧🇷\nDABLIOTREZE LIVE 🇧🇷\nMore to be announced \n 
LOCATION:River stone\, chojh\, Kasol\, Kullu Himachal Pradesh
DTSTAMP:20260419T142021Z
DTSTART:20260603T140000Z
DTEND:20260605T140000Z
END:VEVENT
END:VCALENDAR
